BEGIN:VCALENDAR
VERSION:2.0
PRODID:icalendar-ruby
CALSCALE:GREGORIAN
METHOD:PUBLISH
BEGIN:VEVENT
DTSTAMP:20260421T123517Z
UID:801-16005491@metunited.org
DTSTART:20260426T150000Z
DTEND:20260426T160000Z
CLASS:PUBLIC
CREATED:20260420T095357
DESCRIPTION:
LAST-MODIFIED:20260420T095357
LOCATION:
SUMMARY:The Fourth Sunday of Easter - April 26\, 2026
URL;VALUE=URI:https://www.metunited.org/events/the-fourth-sunday-of-easter-
 april-26-2026/2026-04-26
ATTACH;FILENAME=Fourth Sunday of Easter.png;FMTTYPE=image/png:https://dq5pw
 pg1q8ru0.cloudfront.net/2026/04/20/13/53/01/ff974fef-0464-4abd-a4de-884bfe
 5a729b/Fourth%20Sunday%20of%20Easter.png
END:VEVENT
END:VCALENDAR
