BEGIN:VCALENDAR
VERSION:2.0
PRODID:icalendar-ruby
CALSCALE:GREGORIAN
METHOD:PUBLISH
BEGIN:VEVENT
DTSTAMP:20260423T132926Z
UID:803-16113893@metunited.org
DTSTART:20260425T233000Z
DTEND:20260426T010000Z
CLASS:PUBLIC
CREATED:20260422T141552
DESCRIPTION:Grammy Award-winning composer Eric Whitacre’s The Sacred Vei
 l is a deeply personal meditation on love\, loss\, and healing. Written w
 ith poet Charles Anthony Silvestri\, it tells the true story of Silvestri
 ’s wife\, Julie\, who passed away from ovarian cancer at 36. Through its
  luminous harmonies and intimate text\, the piece explores the profound co
 nnection between love and grief. “Heartbreaking but also bracing” (LA 
 Times)\, this poignant work is presented in partnership with Metropolitan 
 United Church as a vigil for Cancer Awareness Month.\nFor more information
  and tickets\, please visit the Toronto Mendelssohn Choir page  
LAST-MODIFIED:20260422T141552
LOCATION:
SUMMARY:The Sacred Veil: A Vigil for Cancer Awareness
URL;VALUE=URI:https://www.metunited.org/events/the-sacred-veil-a-vigil-for-
 cancer-awareness/2026-04-25
ATTACH;FILENAME=2026-04-27 TMC.png;FMTTYPE=image/png:https://dq5pwpg1q8ru0.
 cloudfront.net/2026/04/22/18/15/51/0ffdec07-7ac7-4680-ad72-7a3ac1fbeb2b/20
 26-04-27%20TMC.png
END:VEVENT
END:VCALENDAR
